BEGIN:VCALENDAR
VERSION:2.0
PRODID:-//Tukios.com/
BEGIN:VEVENT
UID:0c9f82ec-150b-4207-8895-5843b37dfa92@www.ceballos-diaz.com
DTSTAMP:20260423T202030Z
DTSTART:20260430T230000Z
DTEND:20260501T000000Z
SUMMARY:Rosary
DESCRIPTION:
URL:https://www.ceballos-diaz.com/obituaries/ramiro-ochoa-jr
LOCATION: 322 E Kuhn St  Edinburg TX 78541
GEO:26.3026859;-98.1590145
END:VEVENT
END:VCALENDAR