BEGIN:VCALENDAR
VERSION:2.0
PRODID:-//Tukios.com/
BEGIN:VEVENT
UID:7d50c216-71a3-4416-8880-e0960f4bd97b@www.ceballos-diaz.com
DTSTAMP:20260423T202630Z
DTSTART:20260430T220000Z
DTEND:20260501T010000Z
SUMMARY:Memorial Service
DESCRIPTION:
URL:https://www.ceballos-diaz.com/obituaries/ramiro-ochoa-jr
LOCATION: 322 E Kuhn St  Edinburg TX 78541
GEO:26.3026859;-98.1590145
END:VEVENT
END:VCALENDAR