BEGIN:VCALENDAR
VERSION:2.0
PRODID:-//Tukios.com/
BEGIN:VEVENT
UID:9ec5b513-d03c-4c83-b6cb-fe90c4d62bbd@www.ceballos-diaz.com
DTSTAMP:20260424T220357Z
DTSTART:20260428T200000Z
DTEND:20260428T210000Z
SUMMARY:Burial
DESCRIPTION:
URL:https://www.ceballos-diaz.com/obituaries/hector-ponce-jr
LOCATION: 1701 East Richardson Road  Edinburg TX 78542
GEO:26.3060462;-98.1437917
END:VEVENT
END:VCALENDAR