BEGIN:VCALENDAR
VERSION:2.0
PRODID:-//Tukios.com/
BEGIN:VEVENT
UID:3f8312f0-4fd1-415f-9df0-3c046f5515f5@www.ceballos-diaz.com
DTSTAMP:20260424T220957Z
DTSTART:20260428T190000Z
DTEND:20260428T200000Z
SUMMARY:Funeral Mass
DESCRIPTION:
URL:https://www.ceballos-diaz.com/obituaries/hector-ponce-jr
LOCATION: 215 North 16th Avenue  Edinburg TX 78541
GEO:26.3024541;-98.1570511
END:VEVENT
END:VCALENDAR