BEGIN:VCALENDAR
VERSION:2.0
PRODID:-//Tukios.com/
BEGIN:VEVENT
UID:19af0491-35af-4ec7-ae9f-733e4310971e@www.ceballos-diaz.com
DTSTAMP:20260424T220800Z
DTSTART:20260427T230000Z
DTEND:20260428T000000Z
SUMMARY:Prayer Service
DESCRIPTION:
URL:https://www.ceballos-diaz.com/obituaries/hector-ponce-jr
LOCATION: 322 E Kuhn St  Edinburg TX 78541
GEO:26.3026859;-98.1590145
END:VEVENT
END:VCALENDAR