BEGIN:VCALENDAR
VERSION:2.0
PRODID:-//Tukios.com/
BEGIN:VEVENT
UID:1b9bdf42-91bf-46c9-9c78-b44a799a4372@www.ceballos-diaz.com
DTSTAMP:20260424T220549Z
DTSTART:20260427T210000Z
DTEND:20260428T010000Z
SUMMARY:Visitation
DESCRIPTION:
URL:https://www.ceballos-diaz.com/obituaries/hector-ponce-jr
LOCATION: 322 E Kuhn St  Edinburg TX 78541
GEO:26.3026859;-98.1590145
END:VEVENT
END:VCALENDAR